BEGIN:VCALENDAR
VERSION:2.0
PRODID:-//Tukios.com/
BEGIN:VEVENT
UID:e89771e6-72ec-4239-a3fd-cdc072bcc791@www.olsonfuneralhomebloomer.com
DTSTAMP:20260420T193701Z
DTSTART:20260425T200000Z
DTEND:20260425T210000Z
SUMMARY:Memorial Service
DESCRIPTION:
URL:https://www.olsonfuneralhomebloomer.com/obituaries/sharon-van-valkenburg
LOCATION: 1324 15th Ave  Bloomer WI 54724
GEO:45.1012196;-91.4902091
END:VEVENT
END:VCALENDAR