BEGIN:VCALENDAR
VERSION:2.0
PRODID:-//Tukios.com/
BEGIN:VEVENT
UID:aaae2618-dd6e-46d4-9f93-8694831fc9ed@www.olsonfuneralhomebloomer.com
DTSTAMP:20260420T193350Z
DTSTART:20260425T180000Z
DTEND:20260425T200000Z
SUMMARY:Visitation
DESCRIPTION:
URL:https://www.olsonfuneralhomebloomer.com/obituaries/sharon-van-valkenburg
LOCATION: 1324 15th Ave  Bloomer WI 54724
GEO:45.1012196;-91.4902091
END:VEVENT
END:VCALENDAR