BEGIN:VCALENDAR
VERSION:2.0
PRODID:-//Tukios.com/
BEGIN:VEVENT
UID:56570b48-ec74-48f8-bba6-b6b95e13fb1e@www.olsonfuneralhomebloomer.com
DTSTAMP:20260422T011549Z
DTSTART:20260428T160000Z
DTEND:20260428T170000Z
SUMMARY:Funeral Service
DESCRIPTION:
URL:https://www.olsonfuneralhomebloomer.com/obituaries/peggy-cole
LOCATION: 1403 Newman St  Bloomer WI 54724
GEO:45.1021566;-91.491169
END:VEVENT
END:VCALENDAR