BEGIN:VCALENDAR
VERSION:2.0
PRODID:-//Tukios.com/
BEGIN:VEVENT
UID:4168b045-51a2-4a1b-9ceb-190d28029392@www.olsonfuneralhomebloomer.com
DTSTAMP:20260422T011422Z
DTSTART:20260427T210000Z
DTEND:20260428T000000Z
SUMMARY:Visitation
DESCRIPTION:
URL:https://www.olsonfuneralhomebloomer.com/obituaries/peggy-cole
LOCATION:Olson Funeral Home 1516 Larson St  Bloomer WI 54724
GEO:45.1008932;-91.487231
END:VEVENT
END:VCALENDAR