BEGIN:VCALENDAR
VERSION:2.0
PRODID:-//Tukios.com/
BEGIN:VEVENT
UID:510f1ba1-bca9-4d36-993a-b5689d0aaf0b@www.olsonfuneralhomebloomer.com
DTSTAMP:20260422T010629Z
DTSTART:20260501T160000Z
DTEND:20260501T170000Z
SUMMARY:Memorial Service
DESCRIPTION:
URL:https://www.olsonfuneralhomebloomer.com/obituaries/norma-henneman
LOCATION: 1319 Larson St  Bloomer WI 54724
GEO:45.1027089;-91.4880087
END:VEVENT
END:VCALENDAR