BEGIN:VCALENDAR
VERSION:2.0
PRODID:-//Tukios.com/
BEGIN:VEVENT
UID:71474b17-3c20-4d3b-8335-0dbbebc5116e@www.olsonfuneralhomebloomer.com
DTSTAMP:20260422T010031Z
DTSTART:20260501T150000Z
DTEND:20260501T160000Z
SUMMARY:Visitation
DESCRIPTION:
URL:https://www.olsonfuneralhomebloomer.com/obituaries/norma-henneman
LOCATION: 1319 Larson St  Bloomer WI 54724
GEO:45.1027089;-91.4880087
END:VEVENT
END:VCALENDAR